BEGIN:VCALENDAR
VERSION:2.0
PRODID:-//Child Rights Connect - ECPv6.15.16//NONSGML v1.0//EN
CALSCALE:GREGORIAN
METHOD:PUBLISH
X-ORIGINAL-URL:https://childrightsconnect.org
X-WR-CALDESC:Events for Child Rights Connect
REFRESH-INTERVAL;VALUE=DURATION:PT1H
X-Robots-Tag:noindex
X-PUBLISHED-TTL:PT1H
BEGIN:VTIMEZONE
TZID:Europe/Paris
BEGIN:DAYLIGHT
TZOFFSETFROM:+0100
TZOFFSETTO:+0200
TZNAME:CEST
DTSTART:20180325T010000
END:DAYLIGHT
BEGIN:STANDARD
TZOFFSETFROM:+0200
TZOFFSETTO:+0100
TZNAME:CET
DTSTART:20181028T010000
END:STANDARD
BEGIN:DAYLIGHT
TZOFFSETFROM:+0100
TZOFFSETTO:+0200
TZNAME:CEST
DTSTART:20190331T010000
END:DAYLIGHT
BEGIN:STANDARD
TZOFFSETFROM:+0200
TZOFFSETTO:+0100
TZNAME:CET
DTSTART:20191027T010000
END:STANDARD
BEGIN:DAYLIGHT
TZOFFSETFROM:+0100
TZOFFSETTO:+0200
TZNAME:CEST
DTSTART:20200329T010000
END:DAYLIGHT
BEGIN:STANDARD
TZOFFSETFROM:+0200
TZOFFSETTO:+0100
TZNAME:CET
DTSTART:20201025T010000
END:STANDARD
BEGIN:DAYLIGHT
TZOFFSETFROM:+0100
TZOFFSETTO:+0200
TZNAME:CEST
DTSTART:20210328T010000
END:DAYLIGHT
BEGIN:STANDARD
TZOFFSETFROM:+0200
TZOFFSETTO:+0100
TZNAME:CET
DTSTART:20211031T010000
END:STANDARD
END:VTIMEZONE
BEGIN:VTIMEZONE
TZID:America/New_York
BEGIN:DAYLIGHT
TZOFFSETFROM:-0500
TZOFFSETTO:-0400
TZNAME:EDT
DTSTART:20180311T070000
END:DAYLIGHT
BEGIN:STANDARD
TZOFFSETFROM:-0400
TZOFFSETTO:-0500
TZNAME:EST
DTSTART:20181104T060000
END:STANDARD
BEGIN:DAYLIGHT
TZOFFSETFROM:-0500
TZOFFSETTO:-0400
TZNAME:EDT
DTSTART:20190310T070000
END:DAYLIGHT
BEGIN:STANDARD
TZOFFSETFROM:-0400
TZOFFSETTO:-0500
TZNAME:EST
DTSTART:20191103T060000
END:STANDARD
BEGIN:DAYLIGHT
TZOFFSETFROM:-0500
TZOFFSETTO:-0400
TZNAME:EDT
DTSTART:20200308T070000
END:DAYLIGHT
BEGIN:STANDARD
TZOFFSETFROM:-0400
TZOFFSETTO:-0500
TZNAME:EST
DTSTART:20201101T060000
END:STANDARD
END:VTIMEZONE
BEGIN:VEVENT
DTSTART;VALUE=DATE:20190509
DTEND;VALUE=DATE:20190511
DTSTAMP:20260422T004501
CREATED:20190417T091318Z
LAST-MODIFIED:20200728T065638Z
UID:10000043-1557360000-1557532799@childrightsconnect.org
SUMMARY:Study on the global status of engagement in CRC reporting
DESCRIPTION:Child Rights Connect is facilitating strategic and critical reflections about challenges and achievements of civil society child rights advocacy and engagement with the CRC Committee by:\n– developing a study on the global status of the engagement of States\, NGOs and children in the CRC reporting process to highlight gaps and the current outlook of the child rights advocacy movement;\n– organising a stock-take exercise with members and key partners to discuss the findings of the study and new joint strategies to be more effective.
URL:https://childrightsconnect.org/event/study-on-the-global-status-of-the-engagement-in-the-crc-reporting-process/
CATEGORIES:CRC 30th anniversary,Hosted by Child Rights Connect
ATTACH;FMTTYPE=image/jpeg:https://childrightsconnect.org/wp-content/uploads/2019/04/logo.jpg
ORGANIZER;CN="Child Rights Connect":MAILTO:secretariat@childrightsconnect.org
END:VEVENT
BEGIN:VEVENT
DTSTART;VALUE=DATE:20190916
DTEND;VALUE=DATE:20190917
DTSTAMP:20260422T004501
CREATED:20190424T100806Z
LAST-MODIFIED:20191017T133809Z
UID:10000044-1568592000-1568678399@childrightsconnect.org
SUMMARY:Committee on the Rights of the Child: 30 years of children's rights - Where we are and where we want to be
DESCRIPTION:On Monday 16 September 2019 the CRC Committee celebrates the 30th anniversary through: \n\nThe launch of the exhibition at 1:30pm which displays the pledges made by States with respect to children’s rights\, as well as national initiatives\, from 16 to 27 September 2019.\nThe public event 30 years of children’s rights – Where we are and where we want to be  in Palais des Nations:\n\nOn the dedicated website you will find the speakers’ bios\, including Hannah\, Zcyrel\, Maria\, Amy\, Serena\, Sophia and Keren\, and the programme of the event: English | French | Spanish \nSerena helped to open the event and focused on a call for ratification of the third Optional Protocol to the CRC; OPIC. As part of the day’s celebrations\, we launched our new OPIC website – find out more in the article above! \nJean Zermatten\, previous Chairperson of the Committee\, gave a history to the Convention which included data collected from our 2019 report on the Global Status of Engagement in Reporting to the Committee on the Rights of the Child. \nSophia and Keren led a talkshow with a range of stakeholders including our Executive Director Alex Conte and Maria and Zcyrel then launched the child-friendly CRC they have developed as part of a global\, cross-regional Children’s Advisory Team which was led by Child Rights Connect. Access the associated Guide for adults to empower children to develop their own versions in their contexts. \nHannah (representing the global DGD Children’s Advisory Team) and Sophia took part in a roundtable on topics including child justice and the environment\, and Amy took the lead on social media throughout the day and concluded key messages throughout the day. #LittleVoicesBigImpact \nWe really encourage you to watch the recording of the event here! \nKey messages and feedback from this event will help to inform preparations and discussions during the November CRC30 conference.
URL:https://childrightsconnect.org/event/committee-on-the-rights-of-the-childs-exhibition/
LOCATION:Palais des Nations\, Geneva\, 1211\, Switzerland
CATEGORIES:CRC 30th anniversary
ATTACH;FMTTYPE=image/jpeg:https://childrightsconnect.org/wp-content/uploads/2019/04/OHCHR_Logo.jpg
END:VEVENT
BEGIN:VEVENT
DTSTART;TZID=America/New_York:20190925T083000
DTEND;TZID=America/New_York:20190925T093000
DTSTAMP:20260422T004501
CREATED:20190716T071311Z
LAST-MODIFIED:20190912T104836Z
UID:10000024-1569400200-1569403800@childrightsconnect.org
SUMMARY:UN General Assembly high-level commemorative event
DESCRIPTION:The United Nations General Assembly decides to convene a high-level commemorative event to mark the thirtieth anniversary of the adoption of the Convention on the Rights of the Child during the high-level week of the seventy-fourth session of the General Assembly\, on 25 September 2019\, from 8.30 to 9.30 a.m. in the Trusteeship Council Chamber. \nRead the Resolution adopted by the General Assembly on 20 June 2019 – Commemoration of the thirtieth anniversary of the adoption of the Convention on the Rights of the Child \nMuzoon Almellehan will be making remarks\, and there will be six Member States with speaking roles; all accompanied by child delegates (Ghana\, Ecuador\, Poland\, Vietnam\, Russia and Sweden).\nNGOs for invitation have been presented to the President of the General Assembly’s (PGA) Office for confirmation.
URL:https://childrightsconnect.org/event/un-general-assembly-high-level-commemorative-event/
LOCATION:UN headquarters\, NY\, New York\, United States
CATEGORIES:CRC 30th anniversary
ATTACH;FMTTYPE=image/jpeg:https://childrightsconnect.org/wp-content/uploads/2018/01/connectwithun.jpg
END:VEVENT
BEGIN:VEVENT
DTSTART;VALUE=DATE:20191118
DTEND;VALUE=DATE:20191121
DTSTAMP:20260422T004501
CREATED:20190411T152159Z
LAST-MODIFIED:20200108T152759Z
UID:10000042-1574035200-1574294399@childrightsconnect.org
SUMMARY:30th Anniversary: Commemorative conference in Geneva
DESCRIPTION:UPDATE: Check the videos! \nA three-day commemorative conference is organized at the Palais des Nations on 18 to 20 November by the Association 30 ans de Droits de l’Enfant with key partners. Child Rights Connect is actively involved in the organization of the conference as well as in the facilitation of children’s participation. In particular\, Child Rights Connect is invited to take part in the working group which is tasked of organizing the roundtables as well as the working groups which will organize the child participation aspect of the conference. \n\nConcept note\nProgramme\nChild-friendly Concept note and Programme: English\, Français\, Español\n\nAs you can see on the programme: \n\nChild participation is the topic of the only plenary roundtable of Day 1;\nChildren human rights defenders will be the topic of the only plenary roundtable of Day 2;\nOur child advisors are invited to participate in the entire conference\, as speakers and participants;\n2 or 3 child advisors will have the opportunity to deliver an opening statement on Day 1 on the situation of child rights 30 years after the adoption of the CRC.
URL:https://childrightsconnect.org/event/17261/
LOCATION:Palais des Nations\, Geneva\, 1211\, Switzerland
CATEGORIES:CRC 30th anniversary
ATTACH;FMTTYPE=image/png:https://childrightsconnect.org/wp-content/uploads/2019/04/Logo_Association30ans.png
END:VEVENT
BEGIN:VEVENT
DTSTART;VALUE=DATE:20191120
DTEND;VALUE=DATE:20191121
DTSTAMP:20260422T004501
CREATED:20190429T110622Z
LAST-MODIFIED:20191105T164625Z
UID:10000035-1574208000-1574294399@childrightsconnect.org
SUMMARY:Children Are Standing Up for Their Rights. What Will You Do?
DESCRIPTION:UNICEF will advocate for action on child rights throughout 2019 at the global\, regional and national level – culminating on the commemorative day on 20th November – World Children’s Day. \nUNICEF offices are engaging with national and local governments and partners to organize special events and mobilize actions for and with children and young people. Each country will use this opportunity to accelerate progress on priority national child rights issues in their specific contexts. UNICEF favours an approach to commemorating the anniversary at various points with both virtual and country level celebrations and activities\, which could possibly include an action-oriented moment on child rights and the Sustainable Development Goals at the High-Level Political Forum of the United Nations General Assembly in September. UNICEF is also developing a child-friendly version of the Convention\, together with Child Rights Connect and with the participation of children. \nConvention on the Rights of the child Commemorative Event\, 20th November\, NYC \nUNICEF and the Office of the President of the General Assembly are inviting ECOSOC-accredited NGOs to attend the “one-day high-level meeting of the General Assembly on the occasion of the thirtieth anniversary of the Convention on the Rights of the Child.” \nThis one-day event will also serve as the culmination of a series of child-centric efforts underway in regional\, national and local capacities\, brought together in a global space with the participation of UN Member States\, civil society\, children and other stakeholders – all celebrating the Convention. \nIn accordance with the resolution 73/301\, the schedule of the meeting will include an opening plenary meeting\, an interactive segment with meaningful participation of children and youth\, and a high-level plenary meeting. \nThe outcome of the one-day high-level event meeting is a summary record of interventions from member states announcing their renewed or refreshed commitments towards the fulfillment of obligations enshrined within the convention for the 21st century\, and a summary of discussions to act as a record of ongoing commitment to accelerate action for the full realization of the CRC. \nTo confirm attendance\, please register at https://reg.unog.ch/event/32462/. \nChildren Are Standing Up for Their Rights. What Will You Do?  \nIn May 2019\, UNICEF launches the public-facing part of the CRC30 initiative\, and with these public communications\, we will celebrate\, empower and support the inspiring children and young people who are using their voices to change the world\, standing up for their rights\, and the rights of children everywhere. This video\, which features children who have made a real difference in their communities and in the world\, carries the message: ‘Children are standing up for their rights\, what will you do?’. It is a call for adults to take concrete actions to realise child rights\, once and for all. \nGlobal action on the 30th anniversary of the Convention on the Rights of the Child – Government commitments to implementing child rights in the 21st century  \nUNICEF calls for States to sign a joint global pledge : https://www.unicef.org/child-rights-convention/global-action. \nUNICEF has also produced a CRC30 toolkit for partners and a timeline “Milestones in Children’s Rights”. \nFor more information about UNICEF’s plans for CRC30\, or for campaign assets\, please contact email CRC30@unicef.org 
URL:https://childrightsconnect.org/event/unicefs-engagement/
CATEGORIES:CRC 30th anniversary
ATTACH;FMTTYPE=image/png:https://childrightsconnect.org/wp-content/uploads/2019/04/CRC30_Full_Horiz_EN_Color_RGB.png
END:VEVENT
BEGIN:VEVENT
DTSTART;VALUE=DATE:20200224
DTEND;VALUE=DATE:20200321
DTSTAMP:20260422T004501
CREATED:20190516T083508Z
LAST-MODIFIED:20190516T091432Z
UID:10000031-1582502400-1584748799@childrightsconnect.org
SUMMARY:High-level mainstreaming panel on CRC30\, 43rd session of the HRC
DESCRIPTION:High-level mainstreaming panel on CRC30\, 43rd session of the UN Human Rights Council
URL:https://childrightsconnect.org/event/high-level-mainstreaming-panel-on-crc30-43rd-session-of-the-hrc/
CATEGORIES:CRC 30th anniversary
ATTACH;FMTTYPE=image/jpeg:https://childrightsconnect.org/wp-content/uploads/2019/05/hrc_logo.jpg
END:VEVENT
END:VCALENDAR