BEGIN:VCALENDAR
VERSION:2.0
PRODID:-//Child Rights Connect - ECPv6.15.16//NONSGML v1.0//EN
CALSCALE:GREGORIAN
METHOD:PUBLISH
X-WR-CALNAME:Child Rights Connect
X-ORIGINAL-URL:https://childrightsconnect.org
X-WR-CALDESC:Events for Child Rights Connect
REFRESH-INTERVAL;VALUE=DURATION:PT1H
X-Robots-Tag:noindex
X-PUBLISHED-TTL:PT1H
BEGIN:VTIMEZONE
TZID:Europe/Paris
BEGIN:DAYLIGHT
TZOFFSETFROM:+0100
TZOFFSETTO:+0200
TZNAME:CEST
DTSTART:20190331T010000
END:DAYLIGHT
BEGIN:STANDARD
TZOFFSETFROM:+0200
TZOFFSETTO:+0100
TZNAME:CET
DTSTART:20191027T010000
END:STANDARD
BEGIN:DAYLIGHT
TZOFFSETFROM:+0100
TZOFFSETTO:+0200
TZNAME:CEST
DTSTART:20200329T010000
END:DAYLIGHT
BEGIN:STANDARD
TZOFFSETFROM:+0200
TZOFFSETTO:+0100
TZNAME:CET
DTSTART:20201025T010000
END:STANDARD
BEGIN:DAYLIGHT
TZOFFSETFROM:+0100
TZOFFSETTO:+0200
TZNAME:CEST
DTSTART:20210328T010000
END:DAYLIGHT
BEGIN:STANDARD
TZOFFSETFROM:+0200
TZOFFSETTO:+0100
TZNAME:CET
DTSTART:20211031T010000
END:STANDARD
BEGIN:DAYLIGHT
TZOFFSETFROM:+0100
TZOFFSETTO:+0200
TZNAME:CEST
DTSTART:20220327T010000
END:DAYLIGHT
BEGIN:STANDARD
TZOFFSETFROM:+0200
TZOFFSETTO:+0100
TZNAME:CET
DTSTART:20221030T010000
END:STANDARD
BEGIN:DAYLIGHT
TZOFFSETFROM:+0100
TZOFFSETTO:+0200
TZNAME:CEST
DTSTART:20230326T010000
END:DAYLIGHT
BEGIN:STANDARD
TZOFFSETFROM:+0200
TZOFFSETTO:+0100
TZNAME:CET
DTSTART:20231029T010000
END:STANDARD
END:VTIMEZONE
BEGIN:VEVENT
DTSTART;VALUE=DATE:20200921
DTEND;VALUE=DATE:20201010
DTSTAMP:20260425T150620
CREATED:20190401T121820Z
LAST-MODIFIED:20200930T113111Z
UID:10000047-1600646400-1602287999@childrightsconnect.org
SUMMARY:87th pre-session
DESCRIPTION:Canada (CRC)\, Iceland (CRC)\, Kuwait (CRC)\, Philippines (CRC)\, Poland (CRC SRP)\, Ukraine (CRC)\, Vietnam (CRC) \nAdoption of LOIPR: France\, Ireland \nThe 87th pre-session\, originally planned in June 2020\, is postponed to September/October 2020. \n 
URL:https://childrightsconnect.org/event/87th-pre-session/
CATEGORIES:CRC Sessions
ATTACH;FMTTYPE=image/jpeg:https://childrightsconnect.org/wp-content/uploads/2018/04/UN-Geneva-flags.jpg
END:VEVENT
BEGIN:VEVENT
DTSTART;TZID=Europe/Paris:20201021T130000
DTEND;TZID=Europe/Paris:20201021T143000
DTSTAMP:20260425T150620
CREATED:20201015T093337Z
LAST-MODIFIED:20201015T124956Z
UID:10000011-1603285200-1603290600@childrightsconnect.org
SUMMARY:Virtual Side Event on a Child Rights Approach to the LBI Draft Treaty on Business and Human Rights
DESCRIPTION:Business activities and enterprises significantly affect children in all aspects of their lives. As the Committee on the Rights of the Child highlighted\, “children are both rights-holders and stakeholders in business”. Children are potential consumers targeted by marketing strategies and possibly using harmful or unsuitable products and services\, off and online. Many are workers in the formal or informal economy. They are family members of business employees and\, as such\, they may be directly affected by their working conditions and environment. Children are also members or residents of communities and environments\, which are affected by business activities or in which business operates. Children are “often disproportionately affected by the adverse impact of business activities”. Yet\, the impact of business on children and their rights is often still invisible to many stakeholders: governmental bodies\, decision makers within the business sector but also human rights advocates. \nThe aim of this virtual side event\, which will be held on Wedneday October 21 from 1pm to 2:30pm CEST\, is to create a platform to exchange on priorities to be raised and addressed during the 6th Session of the open-ended inter- governmental working group on transnational corporations and other business enterprises with respect to human rights (OEIGWG) from October 26 to October 30\, 2020. This event will hear from diverse and relevant stakeholders on how they are addressing the impact of business activities and enterprises on the lives of children and youth and how a legally binding instrument could regulate and mitigate the negative impact on their rights. \nPanellists:\n• Anita Goh\, International Commission of Jurists: Presentation of the legal analysis\n• Emanuella Ribeiro Halfeld Maciel\, Clínica de Direitos Humanos\, Federal University of Minas Gerais\,\nchildren rights violations and mining tailing dams (Brazil)\n• Gabriela Kühn\, ECPAT International – Case study on child protection from sexual exploitation in the\ncontext of business activities\n• Cristina Duranti\, Good shephard sisters international foundation – Case study child rights violations\nin the context of mining\, DR Congo \nThe side-event will be held on Zoom at the following link:\nhttp://bit.ly/ChildRightsSideEvent (Meeting-ID: 857 4944 6537 Access code: 749664) \nPlease register here if you wish to attend the event and check the concept note for additional information! \nEvent Contacts:\nChild Rights Connect: Maty Diawara – programmes2@childrightsconnect.org\nDKA Austria: Ingrid Pintaritsch – ingrid.pintaritsch@dka.at
URL:https://childrightsconnect.org/event/virtual-side-event-on-a-child-rights-approach-to-the-lbi-draft-treaty-on-business-and-human-rights/
CATEGORIES:Hosted by Child Rights Connect
ORGANIZER;CN="Child Rights Connect":MAILTO:secretariat@childrightsconnect.org
END:VEVENT
BEGIN:VEVENT
DTSTART;TZID=Europe/Paris:20201207T130000
DTEND;TZID=Europe/Paris:20201207T143000
DTSTAMP:20260425T150620
CREATED:20201130T142419Z
LAST-MODIFIED:20201207T090700Z
UID:10000060-1607346000-1607351400@childrightsconnect.org
SUMMARY:Launch of the new publication : "The Rights of Child Human Rights Defenders: Implementation Guide"
DESCRIPTION:Child Rights Connect is thrilled to announce the release of our new publication “The Rights of Child Human Rights Defenders: Implementation Guide”\, which will be presented during this virtual launch event on December 7th\, 2020\, from 1pm to 2:30pm CET. \nYou can check out the event flyer and read the quick intro to the new guide  for more information. Join us at the launch webinar to learn more  about what you can do to strengthen the protection and empowerment of CHRDs! \n \nDo not forget to RSVP here and feel free to contact Agnès at gracia@childrightsconnect.org for more information !
URL:https://childrightsconnect.org/event/launch-of-the-new-publication-the-rights-of-child-human-rights-defenders-implementation-guide/
ATTACH;FMTTYPE=image/png:https://childrightsconnect.org/wp-content/uploads/2020/11/screenshot-2020-12-07-at-10-03-15.png
ORGANIZER;CN="Child Rights Connect":MAILTO:secretariat@childrightsconnect.org
END:VEVENT
BEGIN:VEVENT
DTSTART;VALUE=DATE:20210118
DTEND;VALUE=DATE:20210206
DTSTAMP:20260425T150620
CREATED:20210108T092943Z
LAST-MODIFIED:20210108T093017Z
UID:10000001-1610928000-1612569599@childrightsconnect.org
SUMMARY:86th online limited session
DESCRIPTION:https://tbinternet.ohchr.org/_layouts/15/treatybodyexternal/SessionDetails1.aspx?SessionID=2480&Lang=en
URL:https://childrightsconnect.org/event/86th-session/
CATEGORIES:CRC Sessions
ATTACH;FMTTYPE=image/jpeg:https://childrightsconnect.org/wp-content/uploads/2018/04/UN-Geneva-flags.jpg
END:VEVENT
BEGIN:VEVENT
DTSTART;VALUE=DATE:20210208
DTEND;VALUE=DATE:20210213
DTSTAMP:20260425T150620
CREATED:20190830T160828Z
LAST-MODIFIED:20201208T154137Z
UID:10000021-1612742400-1613174399@childrightsconnect.org
SUMMARY:88th pre-session
DESCRIPTION:Pre-session: Afghanistan (OPAC)\, Azerbaijan (CRC)\, Bolivia (CRC)\, Germany (CRC)\, Luxembourg (CRC SRP)\, North Macedonia (CRC)\, South Sudan (CRC)\, Uzbekistan (CRC) \nAdoption of LOIPR: South Africa\, United Kingdom \nThis pre-session will be held online.
URL:https://childrightsconnect.org/event/88th-pre-session/
CATEGORIES:CRC Sessions
ATTACH;FMTTYPE=image/jpeg:https://childrightsconnect.org/wp-content/uploads/2018/04/UN-Geneva-flags.jpg
END:VEVENT
BEGIN:VEVENT
DTSTART;VALUE=DATE:20210517
DTEND;VALUE=DATE:20210605
DTSTAMP:20260425T150620
CREATED:20200903T134305Z
LAST-MODIFIED:20210428T162118Z
UID:10000040-1621209600-1622851199@childrightsconnect.org
SUMMARY:87th session (online)
DESCRIPTION:The CRC Committee decided to undertake online reviews “on a pilot exceptional basis” for Luxembourg (SRP) and Tunisia. \nDeadline for additional submission (standard procedure): 5th May 2021 \nProgramme of work is available here: https://www.ohchr.org/EN/HRBodies/CRC/Pages/CRCIndex.aspx
URL:https://childrightsconnect.org/event/87th-session/
CATEGORIES:CRC Sessions
ATTACH;FMTTYPE=image/jpeg:https://childrightsconnect.org/wp-content/uploads/2018/04/UN-Geneva-flags.jpg
END:VEVENT
BEGIN:VEVENT
DTSTART;VALUE=DATE:20210607
DTEND;VALUE=DATE:20210612
DTSTAMP:20260425T150620
CREATED:20200929T143548Z
LAST-MODIFIED:20210303T093358Z
UID:10000025-1623024000-1623455999@childrightsconnect.org
SUMMARY:89th pre-session
DESCRIPTION:SRP pre-sessions: Croatia\, Netherlands\, Switzerland.\nDeadline for written inputs to State report: 1st May 2021 \nAdoption of LOIPR: Bulgaria\, Fiji\, Liechtenstein\, Oman.\nDeadline for written inputs to LOIPR: 1st March 2021
URL:https://childrightsconnect.org/event/89th-pre-session/
CATEGORIES:CRC Sessions
ATTACH;FMTTYPE=image/jpeg:https://childrightsconnect.org/wp-content/uploads/2018/04/UN-Geneva-flags.jpg
END:VEVENT
BEGIN:VEVENT
DTSTART;VALUE=DATE:20210906
DTEND;VALUE=DATE:20210925
DTSTAMP:20260425T150620
CREATED:20191112T151710Z
LAST-MODIFIED:20210826T074406Z
UID:10000017-1630886400-1632527999@childrightsconnect.org
SUMMARY:88th session
DESCRIPTION:The session will be conducted in-person with the following country reviews: Czech Republic\, Eswatini\, Poland (SRP)\, Switzerland (SRP). \nDeadline for additional submission: 15th August 2021 \nThe review of Afghanistan (CRC\, OPAC) is postponed.
URL:https://childrightsconnect.org/event/88th-session/
CATEGORIES:CRC Sessions
ATTACH;FMTTYPE=image/jpeg:https://childrightsconnect.org/wp-content/uploads/2018/04/UN-Geneva-flags.jpg
END:VEVENT
BEGIN:VEVENT
DTSTART;VALUE=DATE:20210927
DTEND;VALUE=DATE:20211002
DTSTAMP:20260425T150620
CREATED:20201015T132324Z
LAST-MODIFIED:20210920T111447Z
UID:10000020-1632700800-1633132799@childrightsconnect.org
SUMMARY:90th pre-session
DESCRIPTION:SRP Pre-session: Chile and Zambia\nDeadline for written inputs to the State report: 1st September 2021 \nAdoption of LOIPR: Bhutan\, Ecuador\, Estonia\, Georgia\, Guatemala\, Peru and Sierra Leone.\nDeadline for written inputs to LOIPR: 1st July 2021
URL:https://childrightsconnect.org/event/90th-pre-session/
CATEGORIES:CRC Sessions
ATTACH;FMTTYPE=image/jpeg:https://childrightsconnect.org/wp-content/uploads/2018/04/UN-Geneva-flags.jpg
END:VEVENT
BEGIN:VEVENT
DTSTART;VALUE=DATE:20220131
DTEND;VALUE=DATE:20220212
DTSTAMP:20260425T150620
CREATED:20191112T151552Z
LAST-MODIFIED:20220128T124506Z
UID:10000018-1643587200-1644623999@childrightsconnect.org
SUMMARY:89th session
DESCRIPTION:Madagascar\, Netherlands (SRP) \nDeadline for additional submission: 15th  December 2021 \n“As a result of unprecedented rise of COVID-19/Omicron cases\, the OHCHR has evaluated that the 89th session of the Committee on the Rights of the Child due to start on 17 January 2022 is not possible in an in-person format. The Committee is currently in the process of consultation with the OHCHR/UNOG concerning the new dates. Further announcements will be made as soon as the decision is taken.” \n 
URL:https://childrightsconnect.org/event/89th-session/
CATEGORIES:CRC Sessions
ATTACH;FMTTYPE=image/jpeg:https://childrightsconnect.org/wp-content/uploads/2018/04/UN-Geneva-flags.jpg
END:VEVENT
END:VCALENDAR