BEGIN:VCALENDAR
VERSION:2.0
PRODID:-//Child Rights Connect - ECPv6.15.16//NONSGML v1.0//EN
CALSCALE:GREGORIAN
METHOD:PUBLISH
X-WR-CALNAME:Child Rights Connect
X-ORIGINAL-URL:https://childrightsconnect.org
X-WR-CALDESC:Events for Child Rights Connect
REFRESH-INTERVAL;VALUE=DURATION:PT1H
X-Robots-Tag:noindex
X-PUBLISHED-TTL:PT1H
BEGIN:VTIMEZONE
TZID:Europe/Paris
BEGIN:DAYLIGHT
TZOFFSETFROM:+0100
TZOFFSETTO:+0200
TZNAME:CEST
DTSTART:20200329T010000
END:DAYLIGHT
BEGIN:STANDARD
TZOFFSETFROM:+0200
TZOFFSETTO:+0100
TZNAME:CET
DTSTART:20201025T010000
END:STANDARD
BEGIN:DAYLIGHT
TZOFFSETFROM:+0100
TZOFFSETTO:+0200
TZNAME:CEST
DTSTART:20210328T010000
END:DAYLIGHT
BEGIN:STANDARD
TZOFFSETFROM:+0200
TZOFFSETTO:+0100
TZNAME:CET
DTSTART:20211031T010000
END:STANDARD
BEGIN:DAYLIGHT
TZOFFSETFROM:+0100
TZOFFSETTO:+0200
TZNAME:CEST
DTSTART:20220327T010000
END:DAYLIGHT
BEGIN:STANDARD
TZOFFSETFROM:+0200
TZOFFSETTO:+0100
TZNAME:CET
DTSTART:20221030T010000
END:STANDARD
END:VTIMEZONE
BEGIN:VEVENT
DTSTART;VALUE=DATE:20210517
DTEND;VALUE=DATE:20210605
DTSTAMP:20260425T223400
CREATED:20200903T134305Z
LAST-MODIFIED:20210428T162118Z
UID:10000040-1621209600-1622851199@childrightsconnect.org
SUMMARY:87th session (online)
DESCRIPTION:The CRC Committee decided to undertake online reviews “on a pilot exceptional basis” for Luxembourg (SRP) and Tunisia. \nDeadline for additional submission (standard procedure): 5th May 2021 \nProgramme of work is available here: https://www.ohchr.org/EN/HRBodies/CRC/Pages/CRCIndex.aspx
URL:https://childrightsconnect.org/event/87th-session/
CATEGORIES:CRC Sessions
ATTACH;FMTTYPE=image/jpeg:https://childrightsconnect.org/wp-content/uploads/2018/04/UN-Geneva-flags.jpg
END:VEVENT
BEGIN:VEVENT
DTSTART;VALUE=DATE:20210607
DTEND;VALUE=DATE:20210612
DTSTAMP:20260425T223400
CREATED:20200929T143548Z
LAST-MODIFIED:20210303T093358Z
UID:10000025-1623024000-1623455999@childrightsconnect.org
SUMMARY:89th pre-session
DESCRIPTION:SRP pre-sessions: Croatia\, Netherlands\, Switzerland.\nDeadline for written inputs to State report: 1st May 2021 \nAdoption of LOIPR: Bulgaria\, Fiji\, Liechtenstein\, Oman.\nDeadline for written inputs to LOIPR: 1st March 2021
URL:https://childrightsconnect.org/event/89th-pre-session/
CATEGORIES:CRC Sessions
ATTACH;FMTTYPE=image/jpeg:https://childrightsconnect.org/wp-content/uploads/2018/04/UN-Geneva-flags.jpg
END:VEVENT
END:VCALENDAR