BEGIN:VCALENDAR
VERSION:2.0
PRODID:-//Child Rights Connect - ECPv6.15.16//NONSGML v1.0//EN
CALSCALE:GREGORIAN
METHOD:PUBLISH
X-WR-CALNAME:Child Rights Connect
X-ORIGINAL-URL:https://childrightsconnect.org
X-WR-CALDESC:Events for Child Rights Connect
REFRESH-INTERVAL;VALUE=DURATION:PT1H
X-Robots-Tag:noindex
X-PUBLISHED-TTL:PT1H
BEGIN:VTIMEZONE
TZID:Europe/Paris
BEGIN:DAYLIGHT
TZOFFSETFROM:+0100
TZOFFSETTO:+0200
TZNAME:CEST
DTSTART:20220327T010000
END:DAYLIGHT
BEGIN:STANDARD
TZOFFSETFROM:+0200
TZOFFSETTO:+0100
TZNAME:CET
DTSTART:20221030T010000
END:STANDARD
BEGIN:DAYLIGHT
TZOFFSETFROM:+0100
TZOFFSETTO:+0200
TZNAME:CEST
DTSTART:20230326T010000
END:DAYLIGHT
BEGIN:STANDARD
TZOFFSETFROM:+0200
TZOFFSETTO:+0100
TZNAME:CET
DTSTART:20231029T010000
END:STANDARD
BEGIN:DAYLIGHT
TZOFFSETFROM:+0100
TZOFFSETTO:+0200
TZNAME:CEST
DTSTART:20240331T010000
END:DAYLIGHT
BEGIN:STANDARD
TZOFFSETFROM:+0200
TZOFFSETTO:+0100
TZNAME:CET
DTSTART:20241027T010000
END:STANDARD
END:VTIMEZONE
BEGIN:VEVENT
DTSTART;VALUE=DATE:20230116
DTEND;VALUE=DATE:20230204
DTSTAMP:20260423T074422
CREATED:20220720T104258Z
LAST-MODIFIED:20221122T150844Z
UID:10000008-1673827200-1675468799@childrightsconnect.org
SUMMARY:92nd session
DESCRIPTION:Azerbaijan\, Bolivia (Plurinational State of)\, Ireland\, Mauritius\, New Zealand\, Oman\, Sweden \nDeadline for additional submission: 15th  December 2022 \nRegistration: https://indico.un.org/event/1001958/
URL:https://childrightsconnect.org/event/92-session/
CATEGORIES:CRC Sessions
ATTACH;FMTTYPE=image/jpeg:https://childrightsconnect.org/wp-content/uploads/2018/04/UN-Geneva-flags.jpg
END:VEVENT
END:VCALENDAR