BEGIN:VCALENDAR
VERSION:2.0
PRODID:-//Child Rights Connect - ECPv6.15.16//NONSGML v1.0//EN
CALSCALE:GREGORIAN
METHOD:PUBLISH
X-WR-CALNAME:Child Rights Connect
X-ORIGINAL-URL:https://childrightsconnect.org
X-WR-CALDESC:Events for Child Rights Connect
REFRESH-INTERVAL;VALUE=DURATION:PT1H
X-Robots-Tag:noindex
X-PUBLISHED-TTL:PT1H
BEGIN:VTIMEZONE
TZID:Europe/Paris
BEGIN:DAYLIGHT
TZOFFSETFROM:+0100
TZOFFSETTO:+0200
TZNAME:CEST
DTSTART:20180325T010000
END:DAYLIGHT
BEGIN:STANDARD
TZOFFSETFROM:+0200
TZOFFSETTO:+0100
TZNAME:CET
DTSTART:20181028T010000
END:STANDARD
BEGIN:DAYLIGHT
TZOFFSETFROM:+0100
TZOFFSETTO:+0200
TZNAME:CEST
DTSTART:20190331T010000
END:DAYLIGHT
BEGIN:STANDARD
TZOFFSETFROM:+0200
TZOFFSETTO:+0100
TZNAME:CET
DTSTART:20191027T010000
END:STANDARD
BEGIN:DAYLIGHT
TZOFFSETFROM:+0100
TZOFFSETTO:+0200
TZNAME:CEST
DTSTART:20200329T010000
END:DAYLIGHT
BEGIN:STANDARD
TZOFFSETFROM:+0200
TZOFFSETTO:+0100
TZNAME:CET
DTSTART:20201025T010000
END:STANDARD
END:VTIMEZONE
BEGIN:VEVENT
DTSTART;TZID=Europe/Paris:20191111T090000
DTEND;TZID=Europe/Paris:20191111T180000
DTSTAMP:20260420T225954
CREATED:20190701T104012Z
LAST-MODIFIED:20190701T141423Z
UID:10000022-1573462800-1573495200@childrightsconnect.org
SUMMARY:30 years on from the Child Rights Convention: where are we on street children's rights?
DESCRIPTION:  \nConsortium for Street Children is organizing a conference  titled “30 years on from the Child Rights Convention: where are we on street children’s rights?”. This conference will be held at Baker Mckenzie Office in London on the 11th November 2019 from 9am-6pm. \n30 years on from the Child Rights Convention and 2 years after General Comment N. 21 on Children in Street Situations\, street children around the world are still being denied their rights. You can join this event to discuss the progress made and hear about innovative solutions aimed at securing legal rights\, protections and opportunities for street children. \nConfirmed speakers: Philip Alston\, Special Rapporteur on Extreme Poverty and Human Rights and Nima Elbagir\, Senior International correspondent for CNN and award-winning journalist recognised for investigating human rights abuses and child labour across Africa. \nWorkshop topics and full list of confirmed speakers to be announced in September. \n 
URL:https://childrightsconnect.org/event/30-years-on-from-the-child-rights-convention-where-are-we-on-street-childrens-rights/
LOCATION:Baker Mckenzie Office\, London\, 100 New Bridge St\, London\, England\, EC4V6JA\, Spain
CATEGORIES:CRC 30th anniversary - members events
ATTACH;FMTTYPE=image/png:https://childrightsconnect.org/wp-content/uploads/2019/07/logo@3x-1.png
END:VEVENT
END:VCALENDAR